BEGIN:VCALENDAR
VERSION:2.0
PRODID:-//AREQ secteur Haut-Richelieu - ECPv5.14.0.4//NONSGML v1.0//EN
CALSCALE:GREGORIAN
METHOD:PUBLISH
X-WR-CALNAME:AREQ secteur Haut-Richelieu
X-ORIGINAL-URL:https://haut-richelieu.areq.lacsq.org
X-WR-CALDESC:évènements pour AREQ secteur Haut-Richelieu
BEGIN:VTIMEZONE
TZID:America/New_York
BEGIN:DAYLIGHT
TZOFFSETFROM:-0500
TZOFFSETTO:-0400
TZNAME:EDT
DTSTART:20220313T070000
END:DAYLIGHT
BEGIN:STANDARD
TZOFFSETFROM:-0400
TZOFFSETTO:-0500
TZNAME:EST
DTSTART:20221106T060000
END:STANDARD
END:VTIMEZONE
BEGIN:VEVENT
DTSTART;TZID=America/New_York:20220303T080000
DTEND;TZID=America/New_York:20220303T133000
DTSTAMP:20260425T163239
CREATED:20220228T221236Z
LAST-MODIFIED:20220228T221457Z
UID:11168-1646294400-1646314200@haut-richelieu.areq.lacsq.org
SUMMARY:WEBINAIRE : À la découverte des mystères du Saint-Laurent
DESCRIPTION:POUR INSCRIPTION : https://us06web.zoom.us/webinar/register/WN_6hOAq5kvTzqvTJ_JN38ENA \nSujet : À la découverte des mystères du Saint-Laurent \nHeure : 13h30 \nDescription\nLe secteur Des-Deux-Rives (03-D) de l’AREQ est heureux de vous inviter à cette conférence de Serge Lepage. Ayant sillonné de long en large le Saint-Laurent à titre de marin\, de navigateur et d’océanographe\, c’est avec beaucoup de plaisir et d’affection pour le majestueux cours d’eau que Serge Lepage nous raconte la fabuleuse histoire du fleuve Saint-Laurent. Cette conférence multimédia vous fera découvrir ou redécouvrir des faits étonnants sur la géographie\, les explorateurs\, la faune\, la flore\, l’importance stratégique\, les batailles navales\, les tragédies\, les légendes et les mystères de l’un des plus magnifiques cours d’eau du monde. \nSerge Lepage\nScientifique multidisciplinaire\, marin expérimenté et auteur polyvalent\, Serge Lepage est aussi un orateur dynamique\, détenteur d’une certification de conférencier. Il a écrit Initiation à l’océanographie\, science de la mer (Éditions MultiMondes\, 2014)\, un ouvrage documentaire jeunesse récipiendaire du prix Hubert-Reeves 2015\, catégorie Jeunesse.\nhttps://www.sciencepresse.qc.ca/users/serge-lepage
URL:https://haut-richelieu.areq.lacsq.org/event/webinaire/
END:VEVENT
END:VCALENDAR