BEGIN:VCALENDAR
VERSION:2.0
PRODID:-//AREQ secteur Haut-Richelieu - ECPv5.14.0.4//NONSGML v1.0//EN
CALSCALE:GREGORIAN
METHOD:PUBLISH
X-WR-CALNAME:AREQ secteur Haut-Richelieu
X-ORIGINAL-URL:https://haut-richelieu.areq.lacsq.org
X-WR-CALDESC:évènements pour AREQ secteur Haut-Richelieu
BEGIN:VTIMEZONE
TZID:America/New_York
BEGIN:DAYLIGHT
TZOFFSETFROM:-0500
TZOFFSETTO:-0400
TZNAME:EDT
DTSTART:20230312T070000
END:DAYLIGHT
BEGIN:STANDARD
TZOFFSETFROM:-0400
TZOFFSETTO:-0500
TZNAME:EST
DTSTART:20231105T060000
END:STANDARD
END:VTIMEZONE
BEGIN:VEVENT
DTSTART;TZID=America/New_York:20230417T153000
DTEND;TZID=America/New_York:20230417T193000
DTSTAMP:20260425T084131
CREATED:20221212T204805Z
LAST-MODIFIED:20230327T194359Z
UID:12219-1681745400-1681759800@haut-richelieu.areq.lacsq.org
SUMMARY:Semaine de la Terre
DESCRIPTION:Film dans le cadre de la Semaine de la Terre. \nTitre: Animal Auteur: Cyril Dion \nCoût: gratuit \nDeux représentations : 15h15 et 19h30. \nANIMAL s’attaque à la grande crise écologique : la sixième extinction de masse des espèces. 68% des populations d’animaux sauvages vertébrés ont disparu en ces quarante dernières années. Le film nous emmène dans un voyage à travers le monde pour comprendre ce phénomène\, et .surtout\, comment nous pourrions l’enrayer
URL:https://haut-richelieu.areq.lacsq.org/event/semaine-de-la-terre/
LOCATION:Théâtre des Deux Rives\, 30\, boul du Séminaire Nord\, Saint-Jean-sur-Richelieu\, Québec\, J3B 5J4\, Canada
END:VEVENT
END:VCALENDAR