BEGIN:VCALENDAR
VERSION:2.0
PRODID:-//AREQ secteur Haut-Richelieu - ECPv5.14.0.4//NONSGML v1.0//EN
CALSCALE:GREGORIAN
METHOD:PUBLISH
X-WR-CALNAME:AREQ secteur Haut-Richelieu
X-ORIGINAL-URL:https://haut-richelieu.areq.lacsq.org
X-WR-CALDESC:évènements pour AREQ secteur Haut-Richelieu
BEGIN:VTIMEZONE
TZID:America/New_York
BEGIN:DAYLIGHT
TZOFFSETFROM:-0500
TZOFFSETTO:-0400
TZNAME:EDT
DTSTART:20220313T070000
END:DAYLIGHT
BEGIN:STANDARD
TZOFFSETFROM:-0400
TZOFFSETTO:-0500
TZNAME:EST
DTSTART:20221106T060000
END:STANDARD
END:VTIMEZONE
BEGIN:VEVENT
DTSTART;VALUE=DATE:20220930
DTEND;VALUE=DATE:20221002
DTSTAMP:20260425T133015
CREATED:20220818T195648Z
LAST-MODIFIED:20220818T195648Z
UID:11793-1664496000-1664668799@haut-richelieu.areq.lacsq.org
SUMMARY:Salon des Aînés du Haut-Richelieu
DESCRIPTION:Organisateur : directeur général du journal Le Canada Français \nen collaboration avec la Table de concertation des aînés du Haut-Richelieu\, dont l’AREQ est membre. \net avec tous les organismes qui dispensent des services aux aînés de notre région. \nMission : Faire découvrir et connaître les organismes qui offrent des services de soutien ou de loisirs sur notre territoire.\nCes organismes regroupent des gens engagés qui prodiguent du bien-être\, du bonheur\, généralement bénévolement. \nÀ voir : Salon Vitalité 50+\nplusieurs kiosques à découvrir\, une diversité de conférences à écouter\, des gens à rencontrer!\nQuand : les 30 septembre et 1er octobre 2022
URL:https://haut-richelieu.areq.lacsq.org/event/salon-des-aines-du-haut-richelieu/
LOCATION:Holiday Inn St-jean-sur-Richelieu\, 725 boul. Séminaire Nord\, Saint-Jean-sur-Richelieu\, (Québec)\, Canada
END:VEVENT
END:VCALENDAR