BEGIN:VCALENDAR
VERSION:2.0
PRODID:-//AREQ secteur Haut-Richelieu - ECPv5.14.0.4//NONSGML v1.0//EN
CALSCALE:GREGORIAN
METHOD:PUBLISH
X-WR-CALNAME:AREQ secteur Haut-Richelieu
X-ORIGINAL-URL:https://haut-richelieu.areq.lacsq.org
X-WR-CALDESC:évènements pour AREQ secteur Haut-Richelieu
BEGIN:VTIMEZONE
TZID:America/New_York
BEGIN:DAYLIGHT
TZOFFSETFROM:-0500
TZOFFSETTO:-0400
TZNAME:EDT
DTSTART:20220313T070000
END:DAYLIGHT
BEGIN:STANDARD
TZOFFSETFROM:-0400
TZOFFSETTO:-0500
TZNAME:EST
DTSTART:20221106T060000
END:STANDARD
END:VTIMEZONE
BEGIN:VEVENT
DTSTART;TZID=America/New_York:20221020T110000
DTEND;TZID=America/New_York:20221020T160000
DTSTAMP:20260425T132643
CREATED:20220818T185134Z
LAST-MODIFIED:20220819T021629Z
UID:11753-1666263600-1666281600@haut-richelieu.areq.lacsq.org
SUMMARY:Journée-Retrouvailles Montérégie
DESCRIPTION:Repas classique :\nPotage\nTrempette de légumes\, fromage cheddar et raisins\, plateau de charcuterie et condiment\nVariété de 3 salades\nPlat principal : choix entre pâte\, viande ou poisson\, servi avec pommes de terre et légumes\nDessert : délice du chef\, fruits frais ou en salade \nSpectacle :\nChoeur de l’AREQ de la troupe Ès-Arts \nCoût :\nmembre = 20$; non-membre = 40$\n(coût véritable : repas + 1 verre de vin + spectacle = 90$) \nInscription :\nNicole (450-359-4823) \nFaites parvenir votre chèque (libellé à l’ordre de AREQ Haut-Richelieu) avant le 30 septembre à cette adresse :\n201-159 rue Saint-Gérard\, Saint-Jean-sur Richelieu\, Québec\, J2W 2L5
URL:https://haut-richelieu.areq.lacsq.org/event/retrouvailles-monteregie/
LOCATION:Plaza Rive Sud\, 500 Ave du Golf\, La Prairie\, Québec\, J5R 0A5\, Canada
END:VEVENT
END:VCALENDAR