BEGIN:VCALENDAR
VERSION:2.0
PRODID:-//AREQ secteur Haut-Richelieu - ECPv5.14.0.4//NONSGML v1.0//EN
CALSCALE:GREGORIAN
METHOD:PUBLISH
X-WR-CALNAME:AREQ secteur Haut-Richelieu
X-ORIGINAL-URL:https://haut-richelieu.areq.lacsq.org
X-WR-CALDESC:évènements pour AREQ secteur Haut-Richelieu
BEGIN:VTIMEZONE
TZID:America/New_York
BEGIN:DAYLIGHT
TZOFFSETFROM:-0500
TZOFFSETTO:-0400
TZNAME:EDT
DTSTART:20220313T070000
END:DAYLIGHT
BEGIN:STANDARD
TZOFFSETFROM:-0400
TZOFFSETTO:-0500
TZNAME:EST
DTSTART:20221106T060000
END:STANDARD
END:VTIMEZONE
BEGIN:VEVENT
DTSTART;VALUE=DATE:20220728
DTEND;VALUE=DATE:20220729
DTSTAMP:20260425T151346
CREATED:20220609T171547Z
LAST-MODIFIED:20220725T143324Z
UID:11667-1658966400-1659052799@haut-richelieu.areq.lacsq.org
SUMMARY:Parution Le Trait d'Union
DESCRIPTION:
URL:https://haut-richelieu.areq.lacsq.org/event/parution-le-trait-dunion/
END:VEVENT
END:VCALENDAR