BEGIN:VCALENDAR
VERSION:2.0
PRODID:-//AREQ secteur Haut-Richelieu - ECPv5.14.0.4//NONSGML v1.0//EN
CALSCALE:GREGORIAN
METHOD:PUBLISH
X-WR-CALNAME:AREQ secteur Haut-Richelieu
X-ORIGINAL-URL:https://haut-richelieu.areq.lacsq.org
X-WR-CALDESC:évènements pour AREQ secteur Haut-Richelieu
BEGIN:VTIMEZONE
TZID:America/New_York
BEGIN:DAYLIGHT
TZOFFSETFROM:-0500
TZOFFSETTO:-0400
TZNAME:EDT
DTSTART:20230312T070000
END:DAYLIGHT
BEGIN:STANDARD
TZOFFSETFROM:-0400
TZOFFSETTO:-0500
TZNAME:EST
DTSTART:20231105T060000
END:STANDARD
END:VTIMEZONE
BEGIN:VEVENT
DTSTART;TZID=America/New_York:20230322T093000
DTEND;TZID=America/New_York:20230322T110000
DTSTAMP:20260425T101044
CREATED:20230313T161810Z
LAST-MODIFIED:20230313T162125Z
UID:12483-1679477400-1679482800@haut-richelieu.areq.lacsq.org
SUMMARY:Les proches aidants
DESCRIPTION:Sujet : Les proches aidants\n\nConférencier : Samuel Labrecque\, conseiller à l’AREQ pour le dossier de l’action sociopolitique vous entretiendra des sujets suivants : \n\n Portrait de la proche aidance au Québec (loi sur les proches aidants\, politique nationale et plan d’action gouvernemental)      \n Revendications de l’AREQ pour soutenir les personnes proches aidantes\n Ressources disponibles\n\n\nLa conférence est offerte gratuitement par la région.\nPour nous permettre d’évaluer la participation\, vous devez vous inscrire auprès de la présidence de votre secteur.\ninscriptions.areqhr@outlook.com\nLa journée de la conférence\, vous n’avez qu’à suivre les indications mentionnées dans la pièce jointe : Salle Zoom
URL:https://haut-richelieu.areq.lacsq.org/event/les-proches-aidants/
END:VEVENT
END:VCALENDAR