BEGIN:VCALENDAR
VERSION:2.0
PRODID:-//AREQ secteur Haut-Richelieu - ECPv5.14.0.4//NONSGML v1.0//EN
CALSCALE:GREGORIAN
METHOD:PUBLISH
X-WR-CALNAME:AREQ secteur Haut-Richelieu
X-ORIGINAL-URL:https://haut-richelieu.areq.lacsq.org
X-WR-CALDESC:évènements pour AREQ secteur Haut-Richelieu
BEGIN:VTIMEZONE
TZID:America/New_York
BEGIN:DAYLIGHT
TZOFFSETFROM:-0500
TZOFFSETTO:-0400
TZNAME:EDT
DTSTART:20220313T070000
END:DAYLIGHT
BEGIN:STANDARD
TZOFFSETFROM:-0400
TZOFFSETTO:-0500
TZNAME:EST
DTSTART:20221106T060000
END:STANDARD
END:VTIMEZONE
BEGIN:VEVENT
DTSTART;VALUE=DATE:20220330
DTEND;VALUE=DATE:20220331
DTSTAMP:20260425T164338
CREATED:20220321T193314Z
LAST-MODIFIED:20220321T193314Z
UID:11287-1648598400-1648684799@haut-richelieu.areq.lacsq.org
SUMMARY:Le Trait d'Union arrive dans le site web
DESCRIPTION:
URL:https://haut-richelieu.areq.lacsq.org/event/le-trait-dunion-arrive-dans-le-site-web/
END:VEVENT
END:VCALENDAR