BEGIN:VCALENDAR
VERSION:2.0
PRODID:-//AREQ secteur Haut-Richelieu - ECPv5.14.0.4//NONSGML v1.0//EN
CALSCALE:GREGORIAN
METHOD:PUBLISH
X-WR-CALNAME:AREQ secteur Haut-Richelieu
X-ORIGINAL-URL:https://haut-richelieu.areq.lacsq.org
X-WR-CALDESC:évènements pour AREQ secteur Haut-Richelieu
BEGIN:VTIMEZONE
TZID:America/New_York
BEGIN:DAYLIGHT
TZOFFSETFROM:-0500
TZOFFSETTO:-0400
TZNAME:EDT
DTSTART:20220313T070000
END:DAYLIGHT
BEGIN:STANDARD
TZOFFSETFROM:-0400
TZOFFSETTO:-0500
TZNAME:EST
DTSTART:20221106T060000
END:STANDARD
END:VTIMEZONE
BEGIN:VEVENT
DTSTART;TZID=America/New_York:20220308T133000
DTEND;TZID=America/New_York:20220308T153000
DTSTAMP:20260425T180554
CREATED:20211105T145607Z
LAST-MODIFIED:20220303T180058Z
UID:10785-1646746200-1646753400@haut-richelieu.areq.lacsq.org
SUMMARY:Journée Internationale des Femmes
DESCRIPTION:JOURNÉE DU 8 MARS 2022 : Conférence ZOOM avec Rose-Marie Charest\nVous devez vous inscrire auprès de cette adresse : inscriptions.areqhr@outlook.com\nPar la suite un courriel vous parviendra avec un lien sur lequel vous cliquerez\, vous permettant d’accéder à la rencontre sur Zoom le 8 mars.\nVous pouvez vous joindre à un membre qui possède une tablette ou ordinateur si vous n’en avez pas et ainsi vous joindre à la rencontre. \nLa pandémie a engendré un grand nombre de changements auxquels nous avons dû nous adapter. Or\, les exigences d’adaptation sont une source de stress importante et\, évidemment\, de fatigue psychologique. Comment s’en remettre ?13h30 Première partie <<Comment avez-vous vécu la pandémie.>> Échange entre les participants.\n14h15 Deuxième partie : « Prendre soin de notre santé physique et  psychologique » AVEC ROSE-MARIE CHAREST \nAu cours de cette conférence\, nous aborderons les différentes dimensions de notre personne sur lesquelles nous pouvons agir pour non seulement pour retrouver notre bien-être mais pour bâtir notre avenir en tenant compte des apprentissages effectués en pandémie. \nRose-Marie Charest Psychologue et conférencière \nRose-Marie Charest est psychologue\, auteure et conférencière. Elle a présidé l’Ordre des psychologues de 1998 à 2015\, poste qu’elle a quitté pour se consacrer à sa carrière de communicatrice. En plus d’avoir publié plusieurs livres\, elle est connue du grand public pour sa participation régulière à différentes émissions de radio et de télévision. Dans ses conférences\, elle prend appui sur ses connaissances en psychologie et partage son expertise acquise tout au long d’une carrière qui l’a menée de la clinique à la gestion\, à la gouvernance d’organisations et aux communications publiques et politiques. \n 
URL:https://haut-richelieu.areq.lacsq.org/event/journee-internationale-des-femmes/
END:VEVENT
END:VCALENDAR