BEGIN:VCALENDAR
VERSION:2.0
PRODID:-//AREQ secteur Haut-Richelieu - ECPv5.14.0.4//NONSGML v1.0//EN
CALSCALE:GREGORIAN
METHOD:PUBLISH
X-WR-CALNAME:AREQ secteur Haut-Richelieu
X-ORIGINAL-URL:https://haut-richelieu.areq.lacsq.org
X-WR-CALDESC:évènements pour AREQ secteur Haut-Richelieu
BEGIN:VTIMEZONE
TZID:America/New_York
BEGIN:DAYLIGHT
TZOFFSETFROM:-0500
TZOFFSETTO:-0400
TZNAME:EDT
DTSTART:20220313T070000
END:DAYLIGHT
BEGIN:STANDARD
TZOFFSETFROM:-0400
TZOFFSETTO:-0500
TZNAME:EST
DTSTART:20221106T060000
END:STANDARD
END:VTIMEZONE
BEGIN:VEVENT
DTSTART;TZID=America/New_York:20220411T151500
DTEND;TZID=America/New_York:20220411T170000
DTSTAMP:20260425T151454
CREATED:20220321T193757Z
LAST-MODIFIED:20220321T200410Z
UID:11289-1649690100-1649696400@haut-richelieu.areq.lacsq.org
SUMMARY:Jour de la terre
DESCRIPTION:Dans le cadre du Jour de la Terre\, venez voir gratuitement le film  <<VIVRE EN GRAND>>\n \nIl y aura deux représentations : 15h15 et 19h30 \nPour la semaine de la terre 2022 à St-Jean-sur-Richelieu le comité environnement et développement durable de l’AREQ du Haut-Richelieu a décidé de n’organiser que la présentation du film sur l’environnement. Les incertitudes sanitaires ont eu raison de l’EXPO-ÉCO et de la marche pour cette année encore.\nMais nous avons le plaisir de vous inviter grâce au PTEA<<Projet toujours en action >> de l’AREQ à la présentation Gratuite du film << Vivre en grand>> au théâtre des deux rives pour 2 représentations\, le 11 avril à 15h15 et à 19h30.\n\nhttps://maison4tiers.com/produit/vivre-en-grand-v-f-de-bigger-than-us/\nDepuis 6 ans\, Melati\, 18 ans combat la pollution plastique qui ravage son pays l’Indonésie. Comme elle\, une génération se lève pour réparer le monde. Partout\, adolescents et jeunes adultes luttent pour les droits humains\, le climat\, la liberté d’expression\, la justice sociale\, l’accès à l’éducation ou l’alimentation. La dignité. Seuls contre tous\, parfois au péril de leur vie et sécurité\, ils protègent\, dénoncent\, soignent les autres. La Terre. Et ils changent tout. \n\n30 Bd du Séminaire N\, Saint-Jean-sur-Richelieu\, QC J3B 5J4\,
URL:https://haut-richelieu.areq.lacsq.org/event/jour-de-la-terre/
LOCATION:Théâtre des Deux Rives\, 30\, boul du Séminaire Nord\, Saint-Jean-sur-Richelieu\, Québec\, J3B 5J4\, Canada
END:VEVENT
END:VCALENDAR