BEGIN:VCALENDAR
VERSION:2.0
PRODID:-//AREQ secteur Haut-Richelieu - ECPv5.14.0.4//NONSGML v1.0//EN
CALSCALE:GREGORIAN
METHOD:PUBLISH
X-WR-CALNAME:AREQ secteur Haut-Richelieu
X-ORIGINAL-URL:https://haut-richelieu.areq.lacsq.org
X-WR-CALDESC:évènements pour AREQ secteur Haut-Richelieu
BEGIN:VTIMEZONE
TZID:America/New_York
BEGIN:DAYLIGHT
TZOFFSETFROM:-0500
TZOFFSETTO:-0400
TZNAME:EDT
DTSTART:20220313T070000
END:DAYLIGHT
BEGIN:STANDARD
TZOFFSETFROM:-0400
TZOFFSETTO:-0500
TZNAME:EST
DTSTART:20221106T060000
END:STANDARD
END:VTIMEZONE
BEGIN:VEVENT
DTSTART;TZID=America/New_York:20221215T110000
DTEND;TZID=America/New_York:20221215T170000
DTSTAMP:20260425T114747
CREATED:20220818T194903Z
LAST-MODIFIED:20221212T174353Z
UID:11791-1671102000-1671123600@haut-richelieu.areq.lacsq.org
SUMMARY:Dîner dansant
DESCRIPTION:Dîner dansant de Noël \nAccueil : 11h \ndîner : 12h \n 
URL:https://haut-richelieu.areq.lacsq.org/event/diner-dansant/
LOCATION:Fort Saint-Jean\, 15\, rue Jacques-Cartier Nord\, Saint-Jean-sur-Richelieu\, (Québec)\, J3B 8R8\, Canada
END:VEVENT
END:VCALENDAR