BEGIN:VCALENDAR
VERSION:2.0
PRODID:-//AREQ secteur Haut-Richelieu - ECPv5.14.0.4//NONSGML v1.0//EN
CALSCALE:GREGORIAN
METHOD:PUBLISH
X-WR-CALNAME:AREQ secteur Haut-Richelieu
X-ORIGINAL-URL:https://haut-richelieu.areq.lacsq.org
X-WR-CALDESC:évènements pour AREQ secteur Haut-Richelieu
BEGIN:VTIMEZONE
TZID:America/New_York
BEGIN:DAYLIGHT
TZOFFSETFROM:-0500
TZOFFSETTO:-0400
TZNAME:EDT
DTSTART:20220313T070000
END:DAYLIGHT
BEGIN:STANDARD
TZOFFSETFROM:-0400
TZOFFSETTO:-0500
TZNAME:EST
DTSTART:20221106T060000
END:STANDARD
END:VTIMEZONE
BEGIN:VEVENT
DTSTART;TZID=America/New_York:20221130T093000
DTEND;TZID=America/New_York:20221130T113000
DTSTAMP:20260425T120344
CREATED:20221114T163250Z
LAST-MODIFIED:20221114T163754Z
UID:12117-1669800600-1669807800@haut-richelieu.areq.lacsq.org
SUMMARY:Conférence virtuelle sur la maltraitance des personnes aînées
DESCRIPTION:Invitation à tous les membres de  l’AREQ Montérégie \n\nGinette Plamondon\, conseillère à l’AREQ pour la condition des femmes et l’action sociopolitique vous entretiendra des sujets suivants : \n\nLes diverses formes de maltraitance\nCe qu’est la maltraitance organisationnelle en CHSLD\, en résidence privée et en milieu hospitalier\nLes facteurs de vulnérabilité et les facteurs de protection\nLes nouvelles modifications à la loi sur la maltraitance adoptées en avril 2022\nLes ressources d’aide pour les personnes victimes de maltraitance\n\nLa conférence est offerte gratuitement par la région.  Pour nous permettre d’évaluer la participation\, vous devez vous inscrire auprès de la présidence de votre secteur.  La journée de la conférence\, vous n’avez qu’à suivre les indications mentionnées ci-dessous. \nBienvenue à toutes et à tous! \nPour participer à la rencontre :\nCette rencontre se tiendra en conférence ZOOM. Pour vous joindre à la conférence\, vous n’avez qu’à cliquer sur : https://zoom.us/my/salle.region09\, et ce\, pas plus de 10 minutes avant l’heure de la rencontre\, le temps de permettre à tous et à toutes de se brancher en utilisant les tutoriels si nécessaire.\n– Mot de passe requis : 98765\n– Le numéro ID de la salle est : 419 890 4392\nPour ce faire\, vous devez avoir un ordinateur\, une tablette ou un cellulaire\, dont les mises à jour ont été effectuées et ayant une caméra et un micro/haut-parleur. \nSi vous n’avez pas l’équipement nécessaire\, vous pouvez également vous joindre à la réunion par téléphone en composant l’un des deux numéros suivants :\n 1 438 809 7799. Il s’agit d’un numéro local (Montréal).\n 1 647 558-0588. Il s’agit d’un numéro ontarien\, il est donc recommandé d’avoir un plan de type Canada Illimité.\nL’identifiant de la réunion est 419 890 4392\, et ce\, pour les deux numéros Fonctions disponibles avec votre téléphone :\n– Pour couper ou rétablir le son de votre téléphone\, vous devrez composer *6\n– Pour lever la main\, vous devrez composer *9
URL:https://haut-richelieu.areq.lacsq.org/event/conference-virtuelle-sur-la-maltraitance-des-personnes-ainees/
END:VEVENT
END:VCALENDAR