BEGIN:VCALENDAR
VERSION:2.0
PRODID:-//AREQ secteur Haut-Richelieu - ECPv5.14.0.4//NONSGML v1.0//EN
CALSCALE:GREGORIAN
METHOD:PUBLISH
X-WR-CALNAME:AREQ secteur Haut-Richelieu
X-ORIGINAL-URL:https://haut-richelieu.areq.lacsq.org
X-WR-CALDESC:évènements pour AREQ secteur Haut-Richelieu
BEGIN:VTIMEZONE
TZID:America/New_York
BEGIN:DAYLIGHT
TZOFFSETFROM:-0500
TZOFFSETTO:-0400
TZNAME:EDT
DTSTART:20220313T070000
END:DAYLIGHT
BEGIN:STANDARD
TZOFFSETFROM:-0400
TZOFFSETTO:-0500
TZNAME:EST
DTSTART:20221106T060000
END:STANDARD
END:VTIMEZONE
BEGIN:VEVENT
DTSTART;TZID=America/New_York:20220223T093000
DTEND;TZID=America/New_York:20220223T113000
DTSTAMP:20260425T163351
CREATED:20220117T172804Z
LAST-MODIFIED:20220221T193708Z
UID:11012-1645608600-1645615800@haut-richelieu.areq.lacsq.org
SUMMARY:Conférence ZOOM
DESCRIPTION:Sujet : Les féminicides : parlons-en! \nÀ l’occasion de la Journée internationale des femmes\, nous vous invitons à une conférence virtuelle régionale portant sur un sujet d’actualité. Cette activité s’adresse aux femmes et aux hommes\, membres de l’AREQ de notre région. \nQuand : mercredi\, le 23 février 2022\, de 9 h 30 à 11 h 30\n(accueil à 9 h 20)\nInscription : avant le 21 février auprès de Richard Gouin :\n inscriptions.areqhr@outlook.com\nConférencières : Deux intervenantes: Sophie Tétrault-Martel\, du Centre des femmes de Longueuil et\nMarie-Christine Plante\, du Carrefour pour elle\, une maison d’hébergement.\nLes points suivants seront abordés :\n\n\nContexte social des féminicides\, avant la pandémie et avec la pandémie;\n\n\nHistorique du mot féminicide;\n\n\nFéminicide dans un contexte conjugal et dans d’autres contextes;\n\n\nMoyens de prévention : cellule de crise\, ressources disponibles dans notre région;\n\n\nCe que l’on peut faire.\n\n\nDes périodes de questions et d’échanges sont prévues.\nBienvenue à toutes et à tous !\nLa journée de la conférence\, vous n’avez qu’à suivre les indications mentionnées dans la pièce jointe :\nSalle Zoom.\nBienvenue à toutes et à tous !\nVotre Conseil sectoriel
URL:https://haut-richelieu.areq.lacsq.org/event/conference-virtuelle-2/
END:VEVENT
END:VCALENDAR