BEGIN:VCALENDAR
VERSION:2.0
PRODID:-//AREQ secteur Haut-Richelieu - ECPv5.14.0.4//NONSGML v1.0//EN
CALSCALE:GREGORIAN
METHOD:PUBLISH
X-WR-CALNAME:AREQ secteur Haut-Richelieu
X-ORIGINAL-URL:https://haut-richelieu.areq.lacsq.org
X-WR-CALDESC:évènements pour AREQ secteur Haut-Richelieu
BEGIN:VTIMEZONE
TZID:America/New_York
BEGIN:DAYLIGHT
TZOFFSETFROM:-0500
TZOFFSETTO:-0400
TZNAME:EDT
DTSTART:20230312T070000
END:DAYLIGHT
BEGIN:STANDARD
TZOFFSETFROM:-0400
TZOFFSETTO:-0500
TZNAME:EST
DTSTART:20231105T060000
END:STANDARD
END:VTIMEZONE
BEGIN:VEVENT
DTSTART;TZID=America/New_York:20230116T090000
DTEND;TZID=America/New_York:20230116T120000
DTSTAMP:20260425T115057
CREATED:20230109T223553Z
LAST-MODIFIED:20230109T225602Z
UID:12281-1673859600-1673870400@haut-richelieu.areq.lacsq.org
SUMMARY:Conférence : Assurances et Indexation
DESCRIPTION:Sujet : \n\nde vos assurances (ASSUREQ)\nde l’indexation de la rente du RREGOP en 2023\n\nConférencier : Robert Godin \nIl y aura du café et des muffins. \nInscription par courriel : areqhr@outlook.com\, indiquez votre nom \nDate limite de l’inscription: jeudi 12 janvier 15h00
URL:https://haut-richelieu.areq.lacsq.org/event/conference-assurances-et-indexation/
LOCATION:salle des chevaliers de colomb\, 40 Frontenac\, St-Jean-sur-Richelieu\, Québec\, Canada
END:VEVENT
END:VCALENDAR