BEGIN:VCALENDAR
VERSION:2.0
PRODID:-//AREQ secteur Haut-Richelieu - ECPv5.14.0.4//NONSGML v1.0//EN
CALSCALE:GREGORIAN
METHOD:PUBLISH
X-WR-CALNAME:AREQ secteur Haut-Richelieu
X-ORIGINAL-URL:https://haut-richelieu.areq.lacsq.org
X-WR-CALDESC:évènements pour AREQ secteur Haut-Richelieu
BEGIN:VTIMEZONE
TZID:America/New_York
BEGIN:DAYLIGHT
TZOFFSETFROM:-0500
TZOFFSETTO:-0400
TZNAME:EDT
DTSTART:20230312T070000
END:DAYLIGHT
BEGIN:STANDARD
TZOFFSETFROM:-0400
TZOFFSETTO:-0500
TZNAME:EST
DTSTART:20231105T060000
END:STANDARD
END:VTIMEZONE
BEGIN:VEVENT
DTSTART;TZID=America/New_York:20230116T090000
DTEND;TZID=America/New_York:20230116T120000
DTSTAMP:20260425T120035
CREATED:20230109T224107Z
LAST-MODIFIED:20230119T164900Z
UID:12287-1673859600-1673870400@haut-richelieu.areq.lacsq.org
SUMMARY:Conférence Assurance et Indexation
DESCRIPTION:Conférencier : Robert Godin \nSujet : Assurances et Indexation des rentes \nAccueil : 9h00 \nCafé et muffins \nInscription par courriel: allez à  l’onglet nous joindre\, indiquez votre nom et l’activité.\nSi vous connaissez des membres qui n’ont pas accès à internet\, ou à l’infolettre\, ou au site web\, inscrivez-les sur votre site. Merci \n  \n\n 
URL:https://haut-richelieu.areq.lacsq.org/event/conference-assurance-et-indexation/
LOCATION:salle des chevaliers de colomb\, 40 Frontenac\, St-Jean-sur-Richelieu\, Québec\, Canada
END:VEVENT
END:VCALENDAR