BEGIN:VCALENDAR
VERSION:2.0
PRODID:-//AREQ secteur Haut-Richelieu - ECPv5.14.0.4//NONSGML v1.0//EN
CALSCALE:GREGORIAN
METHOD:PUBLISH
X-WR-CALNAME:AREQ secteur Haut-Richelieu
X-ORIGINAL-URL:https://haut-richelieu.areq.lacsq.org
X-WR-CALDESC:évènements pour AREQ secteur Haut-Richelieu
BEGIN:VTIMEZONE
TZID:America/New_York
BEGIN:DAYLIGHT
TZOFFSETFROM:-0500
TZOFFSETTO:-0400
TZNAME:EDT
DTSTART:20220313T070000
END:DAYLIGHT
BEGIN:STANDARD
TZOFFSETFROM:-0400
TZOFFSETTO:-0500
TZNAME:EST
DTSTART:20221106T060000
END:STANDARD
END:VTIMEZONE
BEGIN:VEVENT
DTSTART;TZID=America/New_York:20220420T090000
DTEND;TZID=America/New_York:20220420T120000
DTSTAMP:20260425T151605
CREATED:20211105T153820Z
LAST-MODIFIED:20220419T225654Z
UID:10793-1650445200-1650456000@haut-richelieu.areq.lacsq.org
SUMMARY:ASSEMBLÉE GÉNÉRALE SECTORIELLE AREQ-HAUT-RICHELIEU
DESCRIPTION:DATE : Mercredi 20 avril 2022 \nENDROIT : Quality Inn \nAutres informations (repas\, heure etc.) à venir plus tard. \n► Il y aura un réseau de communications pour les inscriptions. \n► Le quorum requis est de 4% des membres réguliers. \n► Le dîner est offert gratuitement pour les membres qui assisteront à l’assemblée générale. \nVoici le projet d’ordre du jour: \nASSEMBLÉE GÉNÉRALE SECTORIELLE\, MERCREDI 20 AVRIL 2022 \nAccueil (9h00)\nOuverture de l’assemblée (9h30)\nNomination de la présidence d’assemblée\nLecture et adoption de l’ordre du jour\nLecture\, adoption et suivi du procès-verbal de l’assemblée générale virtuelle du 15 avril 2021\nDons : Fondation Laure-Gaudreault et AREQ Haut-Richelieu\nRapport de la présidence\nRapport de la trésorière\nRapport des comités :\n* Comité des hommes\n* Comité des femmes\n* Comité sociopolitique\n* Comité de la retraite\n* Comité des assurances\n* Comité EDD\nSuivi au plan d’action\nÉlections :\n* Poste à la trésorerie\n* Poste à la 1ère vice-présidence\n* Poste de 1er conseiller ou 1ère conseillère\nCongrès 2023 : délégation\nMot de la présidente régionale Manon Besner\nTirage FLG et tirage RésAut\nPrésentation du conseil sectoriel 2022-2023\nAssemblée générale régionale\nJournée de golf 2022\nLevée de l’assemblée à 12h00 \n12h00 : dîner \n 
URL:https://haut-richelieu.areq.lacsq.org/event/assemblee-generale-sectorielle-areq-haut-richelieu/
LOCATION:Holiday Inn St-jean-sur-Richelieu\, 725 boul. Séminaire Nord\, Saint-Jean-sur-Richelieu\, (Québec)\, Canada
END:VEVENT
END:VCALENDAR