BEGIN:VCALENDAR
VERSION:2.0
PRODID:-//AREQ secteur Haut-Richelieu - ECPv5.14.0.4//NONSGML v1.0//EN
CALSCALE:GREGORIAN
METHOD:PUBLISH
X-WR-CALNAME:AREQ secteur Haut-Richelieu
X-ORIGINAL-URL:https://haut-richelieu.areq.lacsq.org
X-WR-CALDESC:évènements pour AREQ secteur Haut-Richelieu
BEGIN:VTIMEZONE
TZID:America/New_York
BEGIN:DAYLIGHT
TZOFFSETFROM:-0500
TZOFFSETTO:-0400
TZNAME:EDT
DTSTART:20230312T070000
END:DAYLIGHT
BEGIN:STANDARD
TZOFFSETFROM:-0400
TZOFFSETTO:-0500
TZNAME:EST
DTSTART:20231105T060000
END:STANDARD
END:VTIMEZONE
BEGIN:VEVENT
DTSTART;TZID=America/New_York:20230224T130000
DTEND;TZID=America/New_York:20230224T154500
DTSTAMP:20260425T100528
CREATED:20221212T202652Z
LAST-MODIFIED:20221212T202652Z
UID:12205-1677243600-1677253500@haut-richelieu.areq.lacsq.org
SUMMARY:Arts
DESCRIPTION:Création et application des encres sur papier. \nVous apprendrez la technique en transparence en utilisant des encres aux couleurs nuancées. \nProchaines formations :  17 mars.\, 31 mars. \nPour information : 450-708-5554
URL:https://haut-richelieu.areq.lacsq.org/event/arts-3/
LOCATION:Bureau du SEHR\, 670\, boul. du Séminaire Nord\, Saint-Jean-sur-Richelieu\, (Québec)\, Canada
END:VEVENT
END:VCALENDAR