BEGIN:VCALENDAR
VERSION:2.0
PRODID:-//AREQ secteur Haut-Richelieu - ECPv5.14.0.4//NONSGML v1.0//EN
CALSCALE:GREGORIAN
METHOD:PUBLISH
X-WR-CALNAME:AREQ secteur Haut-Richelieu
X-ORIGINAL-URL:https://haut-richelieu.areq.lacsq.org
X-WR-CALDESC:évènements pour AREQ secteur Haut-Richelieu
BEGIN:VTIMEZONE
TZID:America/New_York
BEGIN:DAYLIGHT
TZOFFSETFROM:-0500
TZOFFSETTO:-0400
TZNAME:EDT
DTSTART:20220313T070000
END:DAYLIGHT
BEGIN:STANDARD
TZOFFSETFROM:-0400
TZOFFSETTO:-0500
TZNAME:EST
DTSTART:20221106T060000
END:STANDARD
END:VTIMEZONE
BEGIN:VEVENT
DTSTART;TZID=America/New_York:20220921T080000
DTEND;TZID=America/New_York:20220921T170000
DTSTAMP:20260425T151729
CREATED:20220818T192758Z
LAST-MODIFIED:20220818T192819Z
UID:11773-1663747200-1663779600@haut-richelieu.areq.lacsq.org
SUMMARY:Accueil des nouvelles personnes retraitées
DESCRIPTION:On accueillera les personnes qui prennent leur retraite en 2022 dans la salle des Chevaliers de Colomb. \nUne invitation personnelle sera envoyée aux personnes concernées. \nD’autres détails paraîtront dans la lettre d’invitation.
URL:https://haut-richelieu.areq.lacsq.org/event/accueil-des-nouvelles-personnes-retraitees/
END:VEVENT
END:VCALENDAR